Workbook

Sheet Rekapitulace stavby a ZL
B2: SOUHRNNÝ ROZPOČET STAVBY A REKAPITULACE ZMĚNOVÉHO LISTU
B3: Stavba: ČELÁKOVICE – REVITALIZACE PARKU SADY 17. LISTOPADU
B4: Zadavatel: Město Čelákovice | Zhotovitel: Azeleň s.r.o. | Zpracovatel ZL: Ing. Helena Malivánková (VIII/2026)
B6: 1. Rekapitulace původních částí rozpočtu dle SOD
B7: Kód části | C7: Popis části / objektu | D7: Cena bez DPH (CZK) | E7: DPH 21 % (CZK) | F7: Cena s DPH (CZK) | G7: Podíl na SOD
B8: 045-1 A-24 | C8: Výkaz výměr zeleň 01 – Sadové úpravy SO 801 | D8: 2106189.7 | E8: =D8*0.21 -> 442299.85 | F8: =D8+E8 -> 2548489.6 | G8: =D8/$D$12 -> 0.52882989
B9: 045-1 A-24 | C9: Výkaz výměr zeleň 01 – Vedlejší rozpočtové náklady VRN | D9: 561400 | E9: =D9*0.21 -> 117894 | F9: =D9+E9 -> 679294 | G9: =D9/$D$12 -> 0.14095838
B10: 045-1 B-24 | C10: Výkaz výměr zeleň 02 – Sadové úpravy SO 801 | D10: 974946.05 | E10: =D10*0.21 -> 204738.67 | F10: =D10+E10 -> 1179684.7 | G10: =D10/$D$12 -> 0.24479305
B11: 045-1 B-24 | C11: Výkaz výměr zeleň 02 – Vedlejší rozpočtové náklady VRN | D11: 340200 | E11: =D11*0.21 -> 71442 | F11: =D11+E11 -> 411642 | G11: =D11/$D$12 -> 0.085418671
B12: SOD CELKEM | C12: PŮVODNÍ SMLUVNÍ CENA DÍLA (SOD) | D12: =SUM(D8:D11) -> 3982735.8 | E12: =SUM(E8:E11) -> 836374.52 | F12: =SUM(F8:F11) -> 4819110.3 | G12: =SUM(G8:G11) -> 1
B14: 2. Rekapitulace Změnového listu (Srovnávací rozpočet VIII/2026)
B15: Oddíl změn | C15: Popis skupiny položek | D15: Původní cena dotčených pol. | E15: Méněpráce (MNP) | F15: Vícepráce (VCP) | G15: Rozdíl / Saldo bez DPH | H15: Dopad na SOD
B16: PRÁCE | C16: Sadové a zemní práce, přesuny na staveništi | D16: ='Položkový srovnávací rozpočet'!G49 -> 927570.7 | E16: ='Položkový srovnávací rozpočet'!I49 -> 58292.7 | F16: ='Položkový srovnávací rozpočet'!K49 -> 219284.2 | G16: =F16-E16 -> 160991.5 | H16: =G16/$D$12 -> 0.04042234
B17: ROSTLINNÝ MAT. | C17: Výsadbový materiál (keře, trvalky, cibuloviny) | D17: ='Položkový srovnávací rozpočet'!G83 -> 189198.27 | E17: ='Položkový srovnávací rozpočet'!I83 -> 16840.2 | F17: ='Položkový srovnávací rozpočet'!K83 -> 25760.02 | G17: =F17-E17 -> 8919.82 | H17: =G17/$D$12 -> 0.0022396213
B18: OSTATNÍ MAT. | C18: Substráty, štěrky, hnojiva, zálivka | D18: ='Položkový srovnávací rozpočet'!G96 -> 198396.96 | E18: ='Položkový srovnávací rozpočet'!I96 -> 42336.5 | F18: ='Položkový srovnávací rozpočet'!K96 -> 179006.33 | G18: =F18-E18 -> 136669.83 | H18: =G18/$D$12 -> 0.034315565
B19: ZL CELKEM | C19: SOUHRN ZMĚN (ZMĚNOVÝ LIST) | D19: =SUM(D16:D18) -> 1315165.9 | E19: =SUM(E16:E18) -> 117469.4 | F19: =SUM(F16:F18) -> 424050.55 | G19: =F19-E19 -> 306581.15 | H19: =G19/$D$12 -> 0.076977526
B21: 3. Výsledná bilance stavby a nová smluvní cena po schválení ZL
B22: Položka bilance | C22: Základ bez DPH (CZK) | D22: Sazba DPH | E22: DPH 21 % (CZK) | F22: Cena včetně DPH (CZK) | G22: Změna oproti SOD
B23: Původní smluvní cena díla dle SOD | C23: =D12 -> 3982735.8 | D23: 21 % | E23: =C23*0.21 -> 836374.52 | F23: =C23+E23 -> 4819110.3 | G23: 0.00 %
B24: Celkové méněpráce (odpočty) | C24: =-E19 -> -117469.4 | D24: 21 % | E24: =C24*0.21 -> -24668.574 | F24: =C24+E24 -> -142137.97 | G24: =-E19/$D$12 -> -0.02949465
B25: Celkové vícepráce (přípočty) | C25: =F19 -> 424050.55 | D25: 21 % | E25: =C25*0.21 -> 89050.615 | F25: =C25+E25 -> 513101.16 | G25: =F19/$D$12 -> 0.10647218
B26: Čistý finanční dopad změny (saldo ZL) | C26: =G19 -> 306581.15 | D26: 21 % | E26: =C26*0.21 -> 64382.041 | F26: =C26+E26 -> 370963.19 | G26: =G19/$D$12 -> 0.076977526
B27: NOVÁ SMLUVNÍ CENA DÍLA CELKEM | C27: =C23+C26 -> 4289316.9 | D27: 21 % | E27: =C27*0.21 -> 900756.56 | F27: =C27+E27 -> 5190073.5 | G27: =C26/C23 -> 0.076977526
B29: 4. Zákonné posouzení změn závazku dle § 222 zákona č. 134/2016 Sb. (ZZVZ)
B30: Kritérium dle ZZVZ | C30: Zákonný limit / Pravidlo | D30: Vypočtená hodnota (CZK) | E30: Podíl na původní SOD | F30: Posouzení shody
B31: Změna de minimis dle § 222 odst. 4 (stavební práce) | C31: Limit 15 % z původní ceny díla (max. 597 410 Kč) | D31: =E19+F19 -> 541519.95 | E31: =(E19+F19)/D12 -> 0.13596683 | F31: SPLNĚNO (Absolutní hodnota změn 13,58 % < 15 %)
B32: Přírůstek / Saldo ceny dle § 222 odst. 4 písm. b) | C32: Nemění celkovou povahu původní veřejné zakázky | D32: =G19 -> 306581.15 | E32: =G19/D12 -> 0.076977526 | F32: SPLNĚNO (Čisté navýšení ceny o +7,68 %)
B33: Vícepráce celkem (VCP) | C33: Evidovaná hodnota nových/navýšených položek | D33: =F19 -> 424050.55 | E33: =F19/D12 -> 0.10647218 | F33: 10,63 % z původní smluvní ceny
B34: Méněpráce celkem (MNP) | C34: Evidovaná hodnota neprovedených/ponížených položek | D34: =E19 -> 117469.4 | E34: =E19/D12 -> 0.02949465 | F34: 2,95 % z původní smluvní ceny

Sheet Položkový srovnávací rozpočet
A2: POLOŽKOVÝ SROVNÁVACÍ ROZPOČET ZMĚN (ZMĚNOVÝ LIST VIII/2026)
A3: Stavba: Čelákovice - revitalizace parku Sady 17. listopadu | Zpracovatel: Ing. Helena Malivánková
A5: Kód pol. | B5: Popis položky | C5: Výpočet / Výměra | D5: MJ | E5: Původní množ. | F5: J.cena (Kč) | G5: Cena původní (Kč) | H5: Méněpráce množ. | I5: Méněpráce cena (Kč) | J5: Vícepráce množ. | K5: Vícepráce cena (Kč) | L5: Množství po změně | M5: Cena po změně (Kč)
A6: PŘÍPRAVA PLOCH
A7: 184813511 | B7: Chemické odplevelení před založením kultury postřikem na široko ručně | C7: 1612+421 m2 | D7: m2 | E7: 2033 | F7: 3.7 | G7: =E7*F7 -> 7522.1 | H7: 0 | I7: =H7*F7 -> 0 | J7: 166 | K7: =J7*F7 -> 614.2 | L7: =E7-H7+J7 -> 2199 | M7: =L7*F7 -> 8136.3
A8: ODDÍL 1: PRÁCE – ZALOŽENÍ ZÁHONŮ, TRÁVNÍKŮ, STAVENIŠTĚ A NÁSLEDNÁ PÉČE
A9: 121103111 | B9: Skrývka zemin schopných zúrodnění v rovině a svahu do 1:5 | C9: 0,15mx1578m2 + 0,3mx1491m2 | D9: m3 | E9: 684 | F9: 45 | G9: =E9*F9 -> 30780 | H9: 684 | I9: =H9*F9 -> 30780 | J9: 0 | K9: =J9*F9 -> 0 | L9: =E9-H9+J9 -> 0 | M9: =L9*F9 -> 0
A10: 183205111 | B10: Založení záhonu v rovině a svahu do 1:5 zemina skupiny 1 a 2 | C10: 418+144 m2 | D10: m2 | E10: 562 | F10: 35 | G10: =E10*F10 -> 19670 | H10: 0 | I10: =H10*F10 -> 0 | J10: 29 | K10: =J10*F10 -> 1015 | L10: =E10-H10+J10 -> 591 | M10: =L10*F10 -> 20685
A11: 119005131 | B11: Vytyčení výsadeb zapojených nebo v záhonu plochy přes 100 m2 | C11: 562+100 m2 | D11: m2 | E11: 662 | F11: 1 | G11: =E11*F11 -> 662 | H11: 0 | I11: =H11*F11 -> 0 | J11: 29 | K11: =J11*F11 -> 29 | L11: =E11-H11+J11 -> 691 | M11: =L11*F11 -> 691
A12: 183111212 | B12: Hloubení jamky pro výsadbu s výměnou 50% půdy obj. 0,002-0,005 m3 | C12: 244m2 x 8 ks | D12: ks | E12: 1952 | F12: 20 | G12: =E12*F12 -> 39040 | H12: 0 | I12: =H12*F12 -> 0 | J12: 232 | K12: =J12*F12 -> 4640 | L12: =E12-H12+J12 -> 2184 | M12: =L12*F12 -> 43680
A13: 183211322 | B13: Výsadba květin krytokořenných průměru kontejneru 80-120 mm (keře) | C13: 244m2 x 8 ks | D13: ks | E13: 1952 | F13: 30 | G13: =E13*F13 -> 58560 | H13: 0 | I13: =H13*F13 -> 0 | J13: 232 | K13: =J13*F13 -> 6960 | L13: =E13-H13+J13 -> 2184 | M13: =L13*F13 -> 65520
A14: 184911431 | B14: Mulčování rostlin kůrou tl. přes 0,1 do 0,15 m v rovině | C14: 102+84+24 m2 | D14: m2 | E14: 210 | F14: 35 | G14: =E14*F14 -> 7350 | H14: 11.7 | I14: =H14*F14 -> 409.5 | J14: 0 | K14: =J14*F14 -> 0 | L14: =E14-H14+J14 -> 198.3 | M14: =L14*F14 -> 6940.5
A15: 184911161 | B15: Mulčování záhonů kačírkem tl. vrstvy přes 0,05 do 0,1 m | C15: 452 m2 | D15: m2 | E15: 452 | F15: 45 | G15: =E15*F15 -> 20340 | H15: 0 | I15: =H15*F15 -> 0 | J15: 54 | K15: =J15*F15 -> 2430 | L15: =E15-H15+J15 -> 506 | M15: =L15*F15 -> 22770
A16: 185802114 | B16: Hnojení půdy umělým hnojivem k jednotlivým rostlinám (50g/m2) | C16: 662 m2 x 0,00005 t | D16: t | E16: 0.033 | F16: 10000 | G16: =E16*F16 -> 330 | H16: 0 | I16: =H16*F16 -> 0 | J16: 0.002 | K16: =J16*F16 -> 20 | L16: =E16-H16+J16 -> 0.035 | M16: =L16*F16 -> 350
A17: 185804312 | B17: Zalití rostlin (trvalek) vodou plocha přes 20 m2 (30l/keř, 10l/trvalka) | C17: (1952x10 + 2090x30)/1000 | D17: m3 | E17: 82.2 | F17: 240 | G17: =E17*F17 -> 19728 | H17: 0 | I17: =H17*F17 -> 0 | J17: 2.32 | K17: =J17*F17 -> 556.8 | L17: =E17-H17+J17 -> 84.52 | M17: =L17*F17 -> 20284.8
A18: 183211211 | B18: Založení štěrkového záhonu pro výsadbu trvalek v rovině | C18: 98 m2 | D18: m2 | E18: 98 | F18: 65 | G18: =E18*F18 -> 6370 | H18: 26 | I18: =H18*F18 -> 1690 | J18: 0 | K18: =J18*F18 -> 0 | L18: =E18-H18+J18 -> 72 | M18: =L18*F18 -> 4680
A19: 119005121 | B19: Vytyčení výsadeb zapojených nebo v záhonu plochy 10-100 m2 | C19: 98 m2 | D19: m2 | E19: 98 | F19: 15 | G19: =E19*F19 -> 1470 | H19: 26 | I19: =H19*F19 -> 390 | J19: 0 | K19: =J19*F19 -> 0 | L19: =E19-H19+J19 -> 72 | M19: =L19*F19 -> 1080
A20: 183111111 | B20: Hloubení jamek bez výměny půdy obj. do 0,002 m3 (trvalky na slunci) | C20: 92x8 + 6x3 ks | D20: ks | E20: 754 | F20: 20 | G20: =E20*F20 -> 15080 | H20: 178 | I20: =H20*F20 -> 3560 | J20: 0 | K20: =J20*F20 -> 0 | L20: =E20-H20+J20 -> 576 | M20: =L20*F20 -> 11520
... A32: 185804312.2 | B32: Zalití rostlin vodou plocha přes 20 m2 (20l/m2) | C32: 20l x 1371m2/1000 | D32: m3 | E32: 27.42 | F32: 190 | G32: =E32*F32 -> 5209.8 | H32: 0 | I32: =H32*F32 -> 0 | J32: 3.32 | K32: =J32*F32 -> 630.8 | L32: =E32-H32+J32 -> 30.74 | M32: =L32*F32 -> 5840.6
A33: 111151221 | B33: Pokosení trávníku parkového pl do 10000 m2 s odvozem do 20 km v rovině a svahu do 1:5 | C33: 1833 m2 | D33: m2 | E33: 1833 | F33: 3 | G33: =E33*F33 -> 5499 | H33: 0 | I33: =H33*F33 -> 0 | J33: 38 | K33: =J33*F33 -> 114 | L33: =E33-H33+J33 -> 1871 | M33: =L33*F33 -> 5613
A34: R | B34: Narušení travního drnu | C34: 1833 m2 | D34: m2 | E34: 1833 | F34: 2 | G34: =E34*F34 -> 3666 | H34: 0 | I34: =H34*F34 -> 0 | J34: 38 | K34: =J34*F34 -> 76 | L34: =E34-H34+J34 -> 1871 | M34: =L34*F34 -> 3742
A35: 183403161 | B35: Obdělání půdy válením v rovině a svahu do 1:5 | C35: 1833 m2 | D35: m2 | E35: 1833 | F35: 5 | G35: =E35*F35 -> 9165 | H35: 0 | I35: =H35*F35 -> 0 | J35: 38 | K35: =J35*F35 -> 190 | L35: =E35-H35+J35 -> 1871 | M35: =L35*F35 -> 9355
A36: 181451121 | B36: Založení lučního trávníku výsevem pl přes 1000 m2 v rovině a ve svahu do 1:5 | C36: 1833 m2 | D36: m2 | E36: 1833 | F36: 15 | G36: =E36*F36 -> 27495 | H36: 0 | I36: =H36*F36 -> 0 | J36: 38 | K36: =J36*F36 -> 570 | L36: =E36-H36+J36 -> 1871 | M36: =L36*F36 -> 28065
A37: 185804312 | B37: Zalití rostlin vodou plocha přes 20 m2 (20l/m2) | C37: 36,66 l | D37: l | E37: 36.66 | F37: 190 | G37: =E37*F37 -> 6965.4 | H37: 0 | I37: =H37*F37 -> 0 | J37: 0.76 | K37: =J37*F37 -> 144.4 | L37: =E37-H37+J37 -> 37.42 | M37: =L37*F37 -> 7109.8
A38: 185851121 | B38: Dovoz vody pro zálivku rostlin za vzdálenost do 1000 m | C38: 143.240 + 44,46 | D38: m3 | E38: 187.7 | F38: 190 | G38: =E38*F38 -> 35663 | H38: 0 | I38: =H38*F38 -> 0 | J38: 4.62 | K38: =J38*F38 -> 877.8 | L38: =E38-H38+J38 -> 192.32 | M38: =L38*F38 -> 36540.8
A39: R.12 | B39: Pokládka obruby z ocelové pásoviny včetně materiálu tl. 5 mm | C39: 118 m + 10% prořez | D39: bm | E39: 129.8 | F39: 470 | G39: =E39*F39 -> 61006 | H39: 32.8 | I39: =H39*F39 -> 15416 | J39: 0 | K39: =J39*F39 -> 0 | L39: =E39-H39+J39 -> 97 | M39: =L39*F39 -> 45590
A40: R.N1 | B40: Přemístění zeminy na staveništi (nová položka VCP) | C40: 45,1+37,4+11,54+40+37,4 m3 | D40: m3 | E40: 0 | F40: 680 | G40: =E40*F40 -> 0 | H40: 0 | I40: =H40*F40 -> 0 | J40: 171.7 | K40: =J40*F40 -> 116756 | L40: =E40-H40+J40 -> 171.7 | M40: =L40*F40 -> 116756
A41: R.N2 | B41: Přemístění ostatního materiálu na staveništi (nová položka VCP) | C41: Manipulace a přesuny na ploše | D41: kpl | E41: 0 | F41: 45000 | G41: =E41*F41 -> 0 | H41: 0 | I41: =H41*F41 -> 0 | J41: 1 | K41: =J41*F41 -> 45000 | L41: =E41-H41+J41 -> 1 | M41: =L41*F41 -> 45000
A42: 185804312.3 | B42: Následná péče: Zalití rostlin vodou – záhony trvalek 3x/rok, 3 roky | C42: 20 l x 342 m2 x 3 x 3 / 1000 | D42: m3 | E42: 61 | F42: 190 | G42: =E42*F42 -> 11590 | H42: 0 | I42: =H42*F42 -> 0 | J42: 0.54 | K42: =J42*F42 -> 102.6 | L42: =E42-H42+J42 -> 61.54 | M42: =L42*F42 -> 11692.6
A43: 185804312.6 | B43: Následná péče: Zalití rostlin vodou plocha přes 20 m2 - parkový trávník - 12x/první rok, 30l/m2 | C43: 573,840+39,6 | D43: m3 | E43: 613.44 | F43: 190 | G43: =E43*F43 -> 116553.6 | H43: 0 | I43: =H43*F43 -> 0 | J43: 60 | K43: =J43*F43 -> 11400 | L43: =E43-H43+J43 -> 673.44 | M43: =L43*F43 -> 127953.6
A44: 185851121.1 | B44: Následná péče: Dovoz vody pro zálivku rostlin do 1000 m | C44: 729 + 161 | D44: m3 | E44: 890 | F44: 50 | G44: =E44*F44 -> 44500 | H44: 0 | I44: =H44*F44 -> 0 | J44: 60.54 | K44: =J44*F44 -> 3027 | L44: =E44-H44+J44 -> 950.54 | M44: =L44*F44 -> 47527
A45: 185804211 | B45: Následná péče: Vypletí záhonu květin s odvozem odpadu 3x/rok, 3 roky | C45: 342 m2 x 3 x 3 | D45: m2 | E45: 3078 | F45: 12 | G45: =E45*F45 -> 36936 | H45: 0 | I45: =H45*F45 -> 0 | J45: 9 | K45: =J45*F45 -> 108 | L45: =E45-H45+J45 -> 3087 | M45: =L45*F45 -> 37044
A46: 185804252 | B46: Následná péče: Odstranění odkvetlých a odumřelých částí trvalek 1x/rok | C46: 342 m2 x 3 | D46: m2 | E46: 1026 | F46: 12 | G46: =E46*F46 -> 12312 | H46: 0 | I46: =H46*F46 -> 0 | J46: 3 | K46: =J46*F46 -> 36 | L46: =E46-H46+J46 -> 1029 | M46: =L46*F46 -> 12348
A47: 111151121 | B47: Pokosení trávníku parkového pl do 1000 m2 s odvozem do 20 km v rovině a svahu do 1:5, 10x/rok, 3 roky | C47: 3300 + 47820 | D47: m2 | E47: 51120 | F47: 2.7 | G47: =E47*F47 -> 138024 | H47: 0 | I47: =H47*F47 -> 0 | J47: 4980 | K47: =J47*F47 -> 13446 | L47: =E47-H47+J47 -> 56100 | M47: =L47*F47 -> 151470
A48: 111151131 | B48: Pokosení trávníku lučního pl do 1000 m2 s odvozem do 20 km v rovině a svahu do 1:5, 2x/rok, 3 roky | C48: 10998 + 10998 | D48: m2 | E48: 21996 | F48: 2.7 | G48: =E48*F48 -> 59389.2 | H48: 0 | I48: =H48*F48 -> 0 | J48: 228 | K48: =J48*F48 -> 615.6 | L48: =E48-H48+J48 -> 22224 | M48: =L48*F48 -> 60004.8
A49: DÍL 1 | B49: SOUČET ODDÍLU PŘÍPRAVA A PRÁCE | G49: =SUM(G7:G48) -> 927570.7 | I49: =SUM(I7:I48) -> 58292.7 | K49: =SUM(K7:K48) -> 219284.2 | M49: =SUM(M7:M46) -> 877087.4
A51: ODDÍL 2: SPECIFIKACE – ROSTLINNÝ MATERIÁL (TRVALKY, KEŘE, CIBULOVINY)
A52: Pol106 | B52: Anaphalis triplinervis 'Sommerschnee' | C52: Kontejner h9x9x9 | D52: ks | E52: 119 | F52: 33.8 | G52: =E52*F52 -> 4022.2 | H52: 72 | I52: =H52*F52 -> 2433.6 | J52: 0 | K52: =J52*F52 -> 0 | L52: =E52-H52+J52 -> 47 | M52: =L52*F52 -> 1588.6
A53: Pol107 | B53: Aster dumosus 'Island Tonga' | C53: Kontejner h9x9x9 | D53: ks | E53: 121 | F53: 33.8 | G53: =E53*F53 -> 4089.8 | H53: 16 | I53: =H53*F53 -> 540.8 | J53: 0 | K53: =J53*F53 -> 0 | L53: =E53-H53+J53 -> 105 | M53: =L53*F53 -> 3549
A54: Pol108 | B54: Aster novae angliae 'Purple Dome' | C54: Kontejner h9x9x9 | D54: ks | E54: 92 | F54: 39 | G54: =E54*F54 -> 3588 | H54: 0 | I54: =H54*F54 -> 0 | J54: 6 | K54: =J54*F54 -> 234 | L54: =E54-H54+J54 -> 98 | M54: =L54*F54 -> 3822
A55: Pol.N1 | B55: Astrantia major 'Primadonna' (tm. růžový květ) | C55: Kontejner h9x9x9 – nová odrůda | D55: ks | E55: 0 | F55: 59 | G55: =E55*F55 -> 0 | H55: 0 | I55: =H55*F55 -> 0 | J55: 22 | K55: =J55*F55 -> 1298 | L55: =E55-H55+J55 -> 22 | M55: =L55*F55 -> 1298 | O55: Astrantia major Primadonna - pro požadované růžové zbarvení - Astr. major má primárně bílý květ
A56: Pol109 | B56: Brunnera macrophylla 'Silver heart' | C56: Kontejner h9x9x9 | D56: ks | E56: 90 | F56: 89.7 | G56: =E56*F56 -> 8073 | H56: 33 | I56: =H56*F56 -> 2960.1 | J56: 0 | K56: =J56*F56 -> 0 | L56: =E56-H56+J56 -> 57 | M56: =L56*F56 -> 5112.9
A57: Pol.N2 | B57: Campanula latifolia | C57: Kontejner h9x9x9 – nová položka | D57: ks | E57: 0 | F57: 33 | G57: =E57*F57 -> 0 | H57: 0 | I57: =H57*F57 -> 0 | J57: 71 | K57: =J57*F57 -> 2343 | L57: =E57-H57+J57 -> 71 | M57: =L57*F57 -> 2343
A58: Pol110 | B58: Carex morrowii 'Irish Green' | C58: Kontejner h9x9x9 | D58: ks | E58: 83 | F58: 63.7 | G58: =E58*F58 -> 5287.1 | H58: 0 | I58: =H58*F58 -> 0 | J58: 3 | K58: =J58*F58 -> 191.1 | L58: =E58-H58+J58 -> 86 | M58: =L58*F58 -> 5478.2
A59: Pol111 | B59: Centranthus ruber 'Coccineus' | C59: Kontejner h9x9x9 | D59: ks | E59: 90 | F59: 31.2 | G59: =E59*F59 -> 2808 | H59: 22 | I59: =H59*F59 -> 686.4 | J59: 0 | K59: =J59*F59 -> 0 | L59: =E59-H59+J59 -> 68 | M59: =L59*F59 -> 2121.6
A60: Pol112 | B60: Echinacea purpurea 'Alba' | C60: Kontejner h9x9x9 | D60: ks | E60: 92 | F60: 31.2 | G60: =E60*F60 -> 2870.4 | H60: 0 | I60: =H60*F60 -> 0 | J60: 24 | K60: =J60*F60 -> 748.8 | L60: =E60-H60+J60 -> 116 | M60: =L60*F60 -> 3619.2
A61: Pol113 | B61: Epimedium rubrum | C61: Kontejner h9x9x9 | D61: ks | E61: 76 | F61: 59.8 | G61: =E61*F61 -> 4544.8 | H61: 0 | I61: =H61*F61 -> 0 | J61: 27 | K61: =J61*F61 -> 1614.6 | L61: =E61-H61+J61 -> 103 | M61: =L61*F61 -> 6159.4
A62: Pol114 | B62: Geranium 'Rozanne' | C62: Kontejner h9x9x9 | D62: ks | E62: 284 | F62: 106.6 | G62: =E62*F62 -> 30274.4 | H62: 0 | I62: =H62*F62 -> 0 | J62: 81 | K62: =J62*F62 -> 8634.6 | L62: =E62-H62+J62 -> 365 | M62: =L62*F62 -> 38909
A63: Pol115 | B63: Geranium macrorrhizum 'Walter Ingwersen' | C63: Kontejner h9x9x9 | D63: ks | E63: 136 | F63: 39 | G63: =E63*F63 -> 5304 | H63: 0 | I63: =H63*F63 -> 0 | J63: 73 | K63: =J63*F63 -> 2847 | L63: =E63-H63+J63 -> 209 | M63: =L63*F63 -> 8151
A64: Pol116 | B64: Helleborus niger | C64: Kontejner h9x9x9 | D64: ks | E64: 82 | F64: 53.3 | G64: =E64*F64 -> 4370.6 | H64: 29 | I64: =H64*F64 -> 1545.7 | J64: 0 | K64: =J64*F64 -> 0 | L64: =E64-H64+J64 -> 53 | M64: =L64*F64 -> 2824.9
A65: Pol117 | B65: Hemerocallis sp. – žlutě kvetoucí | C65: Kontejner h9x9x9 | D65: ks | E65: 152 | F65: 74.1 | G65: =E65*F65 -> 11263.2 | H65: 0 | I65: =H65*F65 -> 0 | J65: 4 | K65: =J65*F65 -> 296.4 | L65: =E65-H65+J65 -> 156 | M65: =L65*F65 -> 11559.6
A66: Pol118 | B66: Iris sibirica 'Blue Bird' | C66: Kontejner h9x9x9 | D66: ks | E66: 163 | F66: 59.8 | G66: =E66*F66 -> 9747.4 | H66: 0 | I66: =H66*F66 -> 0 | J66: 2 | K66: =J66*F66 -> 119.6 | L66: =E66-H66+J66 -> 165 | M66: =L66*F66 -> 9867
A67: Pol119 | B67: Liatris spicata | C67: Kontejner h9x9x9 | D67: ks | E67: 162 | F67: 33.8 | G67: =E67*F67 -> 5475.6 | H67: 0 | I67: =H67*F67 -> 0 | J67: 2 | K67: =J67*F67 -> 67.6 | L67: =E67-H67+J67 -> 164 | M67: =L67*F67 -> 5543.2
... A82: Pol134 | B82: Tulipa tarda | C82: Cibule 6/7 | D82: ks | E82: 1275 | F82: 4.06 | G82: =E82*F82 -> 5176.5 | H82: 0 | I82: =H82*F82 -> 0 | J82: 173 | K82: =J82*F82 -> 702.38 | L82: =E82-H82+J82 -> 1448 | M82: =L82*F82 -> 5878.88
A83: DÍL 2 | B83: SOUČET ODDÍLU ROSTLINNÝ MATERIÁL | G83: =SUM(G52:G82) -> 189198.27 | I83: =SUM(I52:I82) -> 16840.2 | K83: =SUM(K52:K82) -> 25760.02 | M83: =SUM(M52:M82) -> 198118.09
A85: ODDÍL 3: SPECIFIKACE – OSTATNÍ MATERIÁL (SUBSTRÁTY, ŠTĚRKY, HNOJIVA, VODA)
A86: Pol135 | B86: Borka (jemně drcená) na mulčování | C86: 212 x 0,1 m3 | D86: m3 | E86: 21.2 | F86: 1450 | G86: =E86*F86 -> 30740 | H86: 1.17 | I86: =H86*F86 -> 1696.5 | J86: 0 | K86: =J86*F86 -> 0 | L86: =E86-H86+J86 -> 20.03 | M86: =L86*F86 -> 29043.5
A87: Pol136 | B87: Travní semeno - parková směs do sucha se zvýšeným podílem kostřavy drsnolisté, 25g/m2 | C87: 39,85 + 2,55 | D87: kg | E87: 42.4 | F87: 130 | G87: =E87*F87 -> 5512 | H87: 0 | I87: =H87*F87 -> 0 | J87: 4.15 | K87: =J87*F87 -> 539.5 | L87: =E87-H87+J87 -> 46.55 | M87: =L87*F87 -> 6051.5
A88: Pol137 | B88: Travní semeno - travinobylinná směs pro dosev - složení viz TZ kapitola Zakládání trávníku, 20g/m2 | C88: 36,66 + 0 | D88: kg | E88: 36.66 | F88: 1.09 | G88: =E88*F88 -> 39.9594 | H88: 0 | I88: =H88*F88 -> 0 | J88: 0.76 | K88: =J88*F88 -> 0.8284 | L88: =E88-H88+J88 -> 37.42 | M88: =L88*F88 -> 40.7878
A89: Pol140 | B89: Substrát do štěrkového trvalkového záhonu (50% štěrk, 50% písek) – odpočet | C89: (42x0,5m3)x1,5 | D89: t | E89: 32 | F89: 1270 | G89: =E89*F89 -> 40640 | H89: 32 | I89: =H89*F89 -> 40640 | J89: 0 | K89: =J89*F89 -> 0 | L89: =E89-H89+J89 -> 0 | M89: =L89*F89 -> 0
A90: Pol.N4 | B90: Substrát do štěrkového trvalkového záhonu (25% štěrk, 25% písek, 50% ornice) | C90: Nový upravený substrát dle ZL | D90: m3 | E90: 0 | F90: 2240 | G90: =E90*F90 -> 0 | H90: 0 | I90: =H90*F90 -> 0 | J90: 37.4 | K90: =J90*F90 -> 83776 | L90: =E90-H90+J90 -> 37.4 | M90: =L90*F90 -> 83776 | O90: D+M
A91: Pol.N5 | B91: Substrát pro výsadbu keřů a trvalek (nová položka) | C91: Výsadbový humózní substrát | D91: m3 | E91: 0 | F91: 1940 | G91: =E91*F91 -> 0 | H91: 0 | I91: =H91*F91 -> 0 | J91: 45.1 | K91: =J91*F91 -> 87494 | L91: =E91-H91+J91 -> 45.1 | M91: =L91*F91 -> 87494 | O91: D+M
A92: Pol148 | B92: Hnojivo k rostlinám a trávníku – NPK (50g/m2, 200g/strom) | C92: (1371x0,05)+stávající | D92: kg | E92: 186 | F92: 90 | G92: =E92*F92 -> 16740 | H92: 0 | I92: =H92*F92 -> 0 | J92: 10 | K92: =J92*F92 -> 900 | L92: =E92-H92+J92 -> 196 | M92: =L92*F92 -> 17640
A93: Pol153 | B93: Štěrk frakce 4/8 mm (včetně dopravy) – separační vrstva a mulč | C93: (352+98)x0,07-0,8 m3 | D93: m3 | E93: 32.8 | F93: 1550 | G93: =E93*F93 -> 50840 | H93: 0 | I93: =H93*F93 -> 0 | J93: 1.96 | K93: =J93*F93 -> 3038 | L93: =E93-H93+J93 -> 34.76 | M93: =L93*F93 -> 53878
A94: Pol155 | B94: Voda pro zálivku rostlin | C94: Zálivka při výsadbě | D94: m3 | E94: 187.7 | F94: 50 | G94: =E94*F94 -> 9385 | H94: 0 | I94: =H94*F94 -> 0 | J94: 4.62 | K94: =J94*F94 -> 231 | L94: =E94-H94+J94 -> 192.32 | M94: =L94*F94 -> 9616
A95: Pol156 | B95: Voda pro zálivku rostlin v následné péči | C95: Následná péče – 3 vegetační období | D95: m3 | E95: 890 | F95: 50 | G95: =E95*F95 -> 44500 | H95: 0 | I95: =H95*F95 -> 0 | J95: 60.54 | K95: =J95*F95 -> 3027 | L95: =E95-H95+J95 -> 950.54 | M95: =L95*F95 -> 47527
A96: DÍL 3 | B96: SOUČET ODDÍLU OSTATNÍ MATERIÁL | G96: =SUM(G86:G95) -> 198396.96 | I96: =SUM(I86:I95) -> 42336.5 | K96: =SUM(K86:K95) -> 179006.33 | M96: =SUM(M86:M95) -> 335066.79
A98: CELKEM | B98: ZMĚNOVÝ LIST CELKEM (SOUČET DÍLŮ 1 + 2 + 3) | G98: =G49+G83+G96 -> 1315165.9 | I98: =I49+I83+I96 -> 117469.4 | K98: =K49+K83+K96 -> 424050.55 | M98: =M49+M83+M96 -> 1410272.3

Sheet Původní SOD (Část 01 a 02)
B2: PŮVODNÍ STRUKTURA SOUPISŮ PRACÍ DLE SOD
B3: Rozpad dílů SO 801 (Sadové úpravy) a VRN pro Část 01 a Část 02
B5: Kód dílu | C5: Název stavebního dílu / skupiny položek | D5: Cena bez DPH (CZK) | E5: DPH 21 % (CZK) | F5: Cena s DPH (CZK) | G5: Podíl na části
B6: VÝKAZ VÝMĚR ČÁST 01 (045-1 A-24) – CELKEM 2 667 589,74 Kč BEZ DPH
B7: ŘEZ STROMŮ | C7: Řez stromů a keřů | D7: 217980 | E7: =D7*0.21 -> 45775.8 | F7: =D7+E7 -> 263755.8 | G7: =D7/$D$23 -> 0.081714214
B8: PŘÍPRAVA PLOCH | C8: Příprava ploch, skrývka a rozprostření ornice | D8: 122393.9 | E8: =D8*0.21 -> 25702.719 | F8: =D8+E8 -> 148096.62 | G8: =D8/$D$23 -> 0.04588183
B9: ZALOŽENÍ ZÁHONŮ KEŘŮ | C9: Založení záhonů keřů a trvalek | D9: 139470.6 | E9: =D9*0.21 -> 29288.826 | F9: =D9+E9 -> 168759.43 | G9: =D9/$D$23 -> 0.052283377
B10: ZALOŽENÍ ZÁHONŮ TRVA | C10: Založení záhonů trvalek | D10: 18241.8 | E10: =D10*0.21 -> 3830.778 | F10: =D10+E10 -> 22072.578 | G10: =D10/$D$23 -> 0.0068383079
B11: VÝSADBA STROMU TR | C11: Výsadba stromu do travnaté plochy | D11: 9520 | E11: =D11*0.21 -> 1999.2 | F11: =D11+E11 -> 11519.2 | G11: =D11/$D$23 -> 0.0035687647
B12: VÝSADBA STROMU OK | C12: Výsadba stromu na okraji záhonu | D12: 24816.5 | E12: =D12*0.21 -> 5211.465 | F12: =D12+E12 -> 30027.965 | G12: =D12/$D$23 -> 0.0093029673
B13: VÝSADBA STRUKTUR | C13: Výsadba stromu se strukturálním substrátem | D13: 237838 | E13: =D13*0.21 -> 49945.98 | F13: =D13+E13 -> 287783.98 | G13: =D13/$D$23 -> 0.089158388
B14: PARKOVÝ TRÁVNÍK | C14: Založení parkového trávníku výsevem | D14: 75562.2 | E14: =D14*0.21 -> 15868.062 | F14: =D14+E14 -> 91430.262 | G14: =D14/$D$23 -> 0.02832602
B15: ODPLEVELENÍ | C15: Odplevelení, přihnojení a dosev | D15: 29240 | E15: =D15*0.21 -> 6140.4 | F15: =D15+E15 -> 35380.4 | G15: =D15/$D$23 -> 0.010961206
B16: LUČNÍ TRÁVNÍK | C16: Založení lučního trávníku | D16: 52790.4 | E16: =D16*0.21 -> 11085.984 | F16: =D16+E16 -> 63876.384 | G16: =D16/$D$23 -> 0.01978955
B17: CIBULOVINY | C17: Výsadba cibulovin | D17: 9450 | E17: =D17*0.21 -> 1984.5 | F17: =D17+E17 -> 11434.5 | G17: =D17/$D$23 -> 0.0035425237
B18: DOKONČOVACÍ PRÁCE | C18: Dokončovací práce (dovoz vody, obruby) | D18: 107701.6 | E18: =D18*0.21 -> 22617.336 | F18: =D18+E18 -> 130318.94 | G18: =D18/$D$23 -> 0.040374124
... B22: VRN CELKEM | C22: Vedlejší rozpočtové náklady (průzkumy, ZS, inženýring, údržba) | D22: 561400 | E22: =D22*0.21 -> 117894 | F22: =D22+E22 -> 679294 | G22: =D22/$D$23 -> 0.21045215
B23: 01 CELKEM | C23: SOUČET VÝKAZU VÝMĚR 01 (045-1 A-24) | D23: =SUM(D7:D22) -> 2667589.7 | E23: =SUM(E7:E22) -> 560193.85 | F23: =SUM(F7:F22) -> 3227783.6 | G23: =SUM(G7:G22) -> 1
B25: VÝKAZ VÝMĚR ČÁST 02 (045-1 B-24) – CELKEM 1 315 146,05 Kč BEZ DPH
B26: ŘEZ STROMŮ | C26: Řez stromů a keřů | D26: 43550 | E26: =D26*0.21 -> 9145.5 | F26: =D26+E26 -> 52695.5 | G26: =D26/$D$39 -> 0.033114193
B27: PŘÍPRAVA PLOCH | C27: Příprava ploch, skrývka a rozprostření ornice | D27: 51278.2 | E27: =D27*0.21 -> 10768.422 | F27: =D27+E27 -> 62046.622 | G27: =D27/$D$39 -> 0.038990498
B28: ZALOŽENÍ ZÁHONŮ KEŘŮ | C28: Založení záhonů keřů a trvalek | D28: 132767.2 | E28: =D28*0.21 -> 27881.112 | F28: =D28+E28 -> 160648.31 | G28: =D28/$D$39 -> 0.10095244
B29: ZALOŽENÍ ZÁHONŮ TRVA | C29: Založení záhonů trvalek na slunci | D29: 29747.8 | E29: =D29*0.21 -> 6247.038 | F29: =D29+E29 -> 35994.838 | G29: =D29/$D$39 -> 0.022619389
B30: VÝSADBA STROMU TR | C30: Výsadba stromu do travnaté plochy | D30: 1947 | E30: =D30*0.21 -> 408.87 | F30: =D30+E30 -> 2355.87 | G30: =D30/$D$39 -> 0.0014804439
B31: VÝSADBA STROMU OK | C31: Výsadba stromu na okraji záhonu | D31: 37174.75 | E31: =D31*0.21 -> 7806.6975 | F31: =D31+E31 -> 44981.448 | G31: =D31/$D$39 -> 0.028266632
B32: PARKOVÝ TRÁVNÍK | C32: Založení parkového trávníku výsevem | D32: 11587.6 | E32: =D32*0.21 -> 2433.396 | F32: =D32+E32 -> 14020.996 | G32: =D32/$D$39 -> 0.0088108845
B33: CIBULOVINY | C33: Výsadba cibulovin | D33: 15750 | E33: =D33*0.21 -> 3307.5 | F33: =D33+E33 -> 19057.5 | G33: =D33/$D$39 -> 0.011975856
B34: DOKONČOVACÍ PRÁCE | C34: Dokončovací práce (dovoz vody, obruby) | D34: 89967.4 | E34: =D34*0.21 -> 18893.154 | F34: =D34+E34 -> 108860.55 | G34: =D34/$D$39 -> 0.068408676
B35: NÁSLEDNÁ PÉČE | C35: Následná péče - 3 vegetační období | D35: 111966.8 | E35: =D35*0.21 -> 23513.028 | F35: =D35+E35 -> 135479.83 | G35: =D35/$D$39 -> 0.0851364
B36: SPECIFIKACE ROSTLIN | C36: Rostlinný materiál (stromy, keře, trvalky, cibuloviny) | D36: 164159.96 | E36: =D36*0.21 -> 34473.592 | F36: =D36+E36 -> 198633.55 | G36: =D36/$D$39 -> 0.12482261
B37: SPECIFIKACE OSTATNÍ | C37: Ostatní materiál (substráty, štěrky, hnojiva, voda) | D37: 285049.34 | E37: =D37*0.21 -> 59860.361 | F37: =D37+E37 -> 344909.7 | G37: =D37/$D$39 -> 0.21674349
B38: VRN CELKEM | C38: Vedlejší rozpočtové náklady (průzkumy, ZS, inženýring, údržba) | D38: 340200 | E38: =D38*0.21 -> 71442 | F38: =D38+E38 -> 411642 | G38: =D38/$D$39 -> 0.25867849
B39: 02 CELKEM | C39: SOUČET VÝKAZU VÝMĚR 02 (045-1 B-24) | D39: =SUM(D26:D38) -> 1315146.1 | E39: =SUM(E26:E38) -> 276180.67 | F39: =SUM(F26:F38) -> 1591326.7 | G39: =SUM(G26:G38) -> 1
